BEGIN:VCALENDAR
VERSION:2.0
PRODID:-//ChamberMaster//Event Calendar 2.0//EN
METHOD:PUBLISH
X-PUBLISHED-TTL:P3D
REFRESH-INTERVAL:P3D
CALSCALE:GREGORIAN
BEGIN:VEVENT
DTSTART:20231104T120000Z
DTEND:20231104T040000Z
X-MICROSOFT-CDO-ALLDAYEVENT:FALSE
SUMMARY:Magnolia Run
DESCRIPTION:Runners\, walkers\, and those who enjoy the outdoors are sure to have a blast participating in the Magnolia Run\, presented by Baldwin County Sewer Service on Saturday\, November 4\, 2023\, in Magnolia Springs\, Alabama.\n\n\n\nThe Magnolia Run is a 5K Run\, 5K Race/Walk and 1 Mile Fun Run that welcomes around 200 participants and takes place in Magnolia Springs down a beautiful scenic route with majestic oak branch canopies overhanging the road\, lovely azaleas\, flowering plants\, and historic homes. This run is stroller and dog friendly.\n\n\n\nAwards are presented to a wide variety of age groups. All runners are welcome to participate in post-race activities   lively DJ music\, delicious food provided by Jesse's Restaurant\, beverages\, and door prizes!\n\n\n\nThis race is USATF certified\, certificate number AL19018JE\, and begins and ends at Jesse's Restaurant\, 14770 Oak Street in Magnolia Springs\, AL\n\n\n\nPacket pick up will be Saturday\, October 30 from 9:00am-4pm at the Magnolia Town Hall\, located across from Jesse's Restaurant or on Saturday\, November 4 from 6:30 am-7:30 am at Jesse's Restaurant. \n\n\n\nFor online registration and all the important information you'll want to know\, go to our website: https://bit.ly/magnoliarun
X-ALT-DESC;FMTTYPE=text/html:<p background-color:="" helvetica="">Runners\, walkers\, and those who enjoy the outdoors are sure to have a blast participating in the <u><strong><a href="https://bit.ly/magnoliarun">Magnolia Run</a></strong></u>\, presented by <u><a href="https://www.southbaldwinchamber.com/list/member/baldwin-county-sewer-service-llc-1814">Baldwin County Sewer Service</a></u> on Saturday\, November 4\, 2023\, in Magnolia Springs\, Alabama.<br />\n<br />\nThe <strong><u><a href="https://bit.ly/magnoliarun">Magnolia Run</a></u></strong> is a 5K Run\, 5K Race/Walk and 1 Mile Fun Run that welcomes around 200 participants and takes place in Magnolia Springs down a beautiful scenic route with majestic oak branch canopies overhanging the road\, lovely azaleas\, flowering plants\, and historic homes. This run is stroller and dog friendly.<br />\n<br />\nAwards are presented to a wide variety of age groups. All runners are welcome to participate in post-race activities &ndash\; lively DJ music\,&nbsp\;delicious food provided by Jesse&#39\;s Restaurant\, beverages\, and door prizes!<br />\n<br />\nThis race is USATF certified\, <strong>certificate number AL19018JE</strong>\, and&nbsp\;begins and ends at Jesse&#39\;s Restaurant\, <a href="https://goo.gl/maps/6oTLPTJxJ47umn8DA">14770 Oak Street in Magnolia Springs\, AL</a><br />\n<br />\nPacket pick up will be Saturday\, October 30&nbsp\;from 9:00am-4pm at the Magnolia Town Hall\, located across from Jesse&#39\;s Restaurant or on Saturday\, November 4&nbsp\;from 6:30 am-7:30 am at Jesse&#39\;s Restaurant.&nbsp\;<br />\n<br />\nFor online registration and all the important information you&#39\;ll want to know\, go to our website:&nbsp\;<u><a href="https://bit.ly/magnoliarun">https://bit.ly/magnoliarun</a></u>&nbsp\;</p>\n
LOCATION:
UID:e.3174.25519
SEQUENCE:3
DTSTAMP:20260424T081058Z
URL:http://southbaldwinal.chambermaster.com/events/details/magnolia-run-25519
END:VEVENT

END:VCALENDAR
